BEGIN:VCALENDAR
VERSION:2.0
PRODID:-//DOECAA - ECPv6.15.17.1//NONSGML v1.0//EN
CALSCALE:GREGORIAN
METHOD:PUBLISH
X-ORIGINAL-URL:https://www.doecaa.org
X-WR-CALDESC:Events for DOECAA
REFRESH-INTERVAL;VALUE=DURATION:PT1H
X-Robots-Tag:noindex
X-PUBLISHED-TTL:PT1H
BEGIN:VTIMEZONE
TZID:America/Chicago
BEGIN:DAYLIGHT
TZOFFSETFROM:-0600
TZOFFSETTO:-0500
TZNAME:CDT
DTSTART:20250309T080000
END:DAYLIGHT
BEGIN:STANDARD
TZOFFSETFROM:-0500
TZOFFSETTO:-0600
TZNAME:CST
DTSTART:20251102T070000
END:STANDARD
BEGIN:DAYLIGHT
TZOFFSETFROM:-0600
TZOFFSETTO:-0500
TZNAME:CDT
DTSTART:20260308T080000
END:DAYLIGHT
BEGIN:STANDARD
TZOFFSETFROM:-0500
TZOFFSETTO:-0600
TZNAME:CST
DTSTART:20261101T070000
END:STANDARD
BEGIN:DAYLIGHT
TZOFFSETFROM:-0600
TZOFFSETTO:-0500
TZNAME:CDT
DTSTART:20270314T080000
END:DAYLIGHT
BEGIN:STANDARD
TZOFFSETFROM:-0500
TZOFFSETTO:-0600
TZNAME:CST
DTSTART:20271107T070000
END:STANDARD
END:VTIMEZONE
BEGIN:VEVENT
DTSTART;VALUE=DATE:20260422
DTEND;VALUE=DATE:20260424
DTSTAMP:20260421T043543
CREATED:20260212T025806Z
LAST-MODIFIED:20260420T213021Z
UID:110000053-1776816000-1776988799@www.doecaa.org
SUMMARY:2026 Spring Conference - April 22-23 - Fermilab and Argonne National Laboratory
DESCRIPTION:***************************************\nYOU MUST REGISTER IN ADVANCE FOR SITE ACCESS\nfor both Fermilab and Argonne National Laboratory\n***************************************\nRegistration is now open – two labs for the price of one!\n                    \n                                                           \n  \nKey Logistics\nHere is the Conference Briefing Book\, including Final Agenda and here is a list of registered attendees. \nIMPORTANT: Here are detailed directions for registering for site access and for day-of arrival information for both Argonne National Laboratory and Fermilab. You MUST register in advance for site access and you may want to print the directions or save them locally ahead of time.  \nCarpooling is encouraged to both laboratories\, but especially Fermilab. Please be aware that Uber\, Lyft\, and taxis may not be reliable for site access. \nSocial\nThere will be a networking reception the evening of April 22 at Fermilab. Tickets may be purchased separately on the DOECAA Events page. DOECAA members and conference attendees are  also invited to networking/mentoring special happy hour on the evening of Thursday April 23. Additional details will be shared via email and when we meet together\, but we hope many of you who are still in town might be able to join us. \nAccommodations\nSeveral hotels are convenient to both laboratories. The recommended conference hotel is: \nHotel Arista\n2139 Citygate Lane\nNaperville\, Illinois \nA limited number of rooms at Hotel Arista are available at discounted rates. To register\, click above link or call 888-504-0088 and mention group name Argonne National Laboratory and block code ARG0421. You must register by April 1 to obtain the discounted rate. We understand Hotel Arista is completely sold out for the night of April 21. There may still be rooms available for April 22 and 23. \nAdditional nearby hotels include: \nHyatt House Chicago/Naperville/Warrenville\n27554 Maecliff Dr.\nWarrenville\, Illinois \nHyatt Place Chicago/Naperville/Warrenville\n27576 Maecliff Dr.\nWarrenville\, Illinois \nTru by Hilton Naperville Chicago\n1809 West Diehl Rd.\nNaperville\, Illinois \n  \n  \n  \n  \n 
URL:https://www.doecaa.org/event/2026-spring-conference-april-22-23-fermilab-and-argonne-national-laboratory/
LOCATION:https://www.doecaa.org/event/2026-spring-conference-april-22-23-fermilab-and-argonne-national-laboratory/
END:VEVENT
BEGIN:VEVENT
DTSTART;TZID=America/Chicago:20260422T111500
DTEND;TZID=America/Chicago:20260422T123000
DTSTAMP:20260421T043543
CREATED:20260305T003348Z
LAST-MODIFIED:20260305T003711Z
UID:110000056-1776856500-1776861000@www.doecaa.org
SUMMARY:2026 Spring Breakout Session for Attorneys New to the DOE/NNSA Complex
DESCRIPTION:DOECAA is continuing its efforts to provide content and networking for all of you who are new to the DOE/NNSA complex.  If interested\, please also sign up for our new-to-the-complex breakout lunch session on Wednesday\, April 22 from 11:15-12:30pm CDT. There is a virtual option as well for those participating remotely.   \nThis session is targeted to attorneys who are new to the  DOE/NNSA complex\, not just new to the practice of law. You get to decide what “new” means to you.  \nYou are welcome to attend this breakout session even if you are not attending the rest of the DOECAA Spring Conference. \nThere is no charge for this session\, but we do ask that you register for planning purposes.
URL:https://www.doecaa.org/event/breakout-session-for-attorneys-new-to-the-doe-nnsa-complex-3/
LOCATION:Fermilab – Comitium Conference Room\, Pine St. & Kirk Rd.\, Batavia\, IL\, 60510\, United States
END:VEVENT
BEGIN:VEVENT
DTSTART;TZID=America/Chicago:20260422T171500
DTEND;TZID=America/Chicago:20260422T183000
DTSTAMP:20260421T043543
CREATED:20260305T001718Z
LAST-MODIFIED:20260305T001855Z
UID:110000054-1776878100-1776882600@www.doecaa.org
SUMMARY:2026 Spring Networking Reception
DESCRIPTION:Please join us in the Fermilab Atrium on April 22 to connect and/or reconnect with colleagues from across the DOE complex.
URL:https://www.doecaa.org/event/2026-spring-networking-reception/
LOCATION:Fermilab – Wilson Room\, Pine St. and Kirk Rd.\, Batavia\, IL\, 60510
END:VEVENT
END:VCALENDAR